BEGIN:VCALENDAR
VERSION:2.0
PRODID:-//eventon.com NONSGML v1.0//EN
CALSCALE:GREGORIAN
METHOD:PUBLISH
BEGIN:VEVENT
UID:69eaef9876463
DTSTAMP:20260424T042040Z
DTSTART:20201114T190000Z
DTEND:20201114T225000Z
LOCATION:MADRID. Círculo Bellas Artes
SUMMARY:CONCIERTO EKHILORE QUINTET
DESCRIPTION:&nbsp; Juan José Cabillas\,  saxofón Juan Rodríguez\,  guita
 rra Nacho Soto\,  piano Joan Codina\,  contrabajo Ander Alonso\,  batería\
 nhttps://musikene.eus/events/concierto-ekhilore-quintet-2/?lang=fr
URL:https://musikene.eus/events/concierto-ekhilore-quintet-2/?lang=fr
END:VEVENT
END:VCALENDAR