BEGIN:VCALENDAR
VERSION:2.0
PRODID:-//eventon.com NONSGML v1.0//EN
CALSCALE:GREGORIAN
METHOD:PUBLISH
BEGIN:VEVENT
UID:69eb5cade3ef3
DTSTAMP:20260424T120605Z
DTSTART:20210515T080000Z
DTEND:20210515T215000Z
LOCATION:Musikene
SUMMARY:CAMBIO DE HORA!! Audición VIOLÍN
DESCRIPTION:Alumnado de la profesora Eva Pereda\nhttps://musikene.eus/event
 s/audicion-violin-25/?lang=en
URL:https://musikene.eus/events/audicion-violin-25/?lang=en
END:VEVENT
END:VCALENDAR