BEGIN:VCALENDAR
VERSION:2.0
PRODID:-//eventon.com NONSGML v1.0//EN
CALSCALE:GREGORIAN
METHOD:PUBLISH
BEGIN:VEVENT
UID:69e896fc5869d
DTSTAMP:20260422T093804Z
DTSTART:20210123T100000Z
DTEND:20210123T225000Z
LOCATION:Musikene
SUMMARY:Biolin Entzunaldia
DESCRIPTION:Eva Pereda irakaslearen ikaslegoa\nhttps://musikene.eus/events/
 biolin-entzunaldia-2/?lang=eu
URL:https://musikene.eus/events/biolin-entzunaldia-2/?lang=eu
END:VEVENT
END:VCALENDAR