BEGIN:VCALENDAR
VERSION:2.0
PRODID:-//eventon.com NONSGML v1.0//EN
CALSCALE:GREGORIAN
METHOD:PUBLISH
BEGIN:VEVENT
UID:69ed1d867e80d
DTSTAMP:20260425T200110Z
DTSTART:20201026T140000Z
DTEND:20201026T225000Z
LOCATION:Musikene
SUMMARY:Audición Trompeta
DESCRIPTION:Alumnado de Luis González y José Gallego\nhttps://musikene.eu
 s/events/audicion-trompeta/?lang=fr
URL:https://musikene.eus/events/audicion-trompeta/?lang=fr
END:VEVENT
END:VCALENDAR