BEGIN:VCALENDAR
VERSION:2.0
PRODID:-//eventon.com NONSGML v1.0//EN
CALSCALE:GREGORIAN
METHOD:PUBLISH
BEGIN:VEVENT
UID:69e88373eb01c
DTSTAMP:20260422T081443Z
DTSTART:20210324T160000Z
DTEND:20210324T225000Z
LOCATION:Musikene
SUMMARY:Jazz Saxofoi Entzunaldia
DESCRIPTION:Mikel Andueza irakaslearen ikaslegoa\nhttps://musikene.eus/even
 ts/audicion-saxofon-jazz-5/?lang=eu
URL:https://musikene.eus/events/audicion-saxofon-jazz-5/?lang=eu
END:VEVENT
END:VCALENDAR