BEGIN:VCALENDAR
VERSION:2.0
PRODID:-//eventon.com NONSGML v1.0//EN
CALSCALE:GREGORIAN
METHOD:PUBLISH
BEGIN:VEVENT
UID:69eb904ba7577
DTSTAMP:20260424T154619Z
DTSTART:20210208T170000Z
DTEND:20210208T225000Z
LOCATION:Musikene
SUMMARY:Saxofoi Entzunaldia
DESCRIPTION:Miguel Ángel Lorente irakaslearen ikaslegoa.\nhttps://musikene
 .eus/events/audicion-saxofon-9/?lang=eu
URL:https://musikene.eus/events/audicion-saxofon-9/?lang=eu
END:VEVENT
END:VCALENDAR