BEGIN:VCALENDAR
VERSION:2.0
PRODID:-//eventon.com NONSGML v1.0//EN
CALSCALE:GREGORIAN
METHOD:PUBLISH
BEGIN:VEVENT
UID:69e4d6c99606b
DTSTAMP:20260419T132113Z
DTSTART:20210330T153000Z
DTEND:20210330T215000Z
LOCATION:Musikene
SUMMARY:Errepertorio orkestala (Fagot) Entzunaldia
DESCRIPTION:Javier Aragó irakaslearen ikasleagoa\nhttps://musikene.eus/eve
 nts/audicion-repertorio-orquestal-fagot-2/?lang=eu
URL:https://musikene.eus/events/audicion-repertorio-orquestal-fagot-2/?lang=eu
END:VEVENT
END:VCALENDAR