BEGIN:VCALENDAR
VERSION:2.0
PRODID:-//eventon.com NONSGML v1.0//EN
CALSCALE:GREGORIAN
METHOD:PUBLISH
BEGIN:VEVENT
UID:69e4c2a14bdfe
DTSTAMP:20260419T115513Z
DTSTART:20210330T153000Z
DTEND:20210330T215000Z
LOCATION:Musikene
SUMMARY:Audición Repertorio orquestal (Fagot)
DESCRIPTION:Alumnado del profesor Javier Aragó\nhttps://musikene.eus/event
 s/audicion-repertorio-orquestal-fagot-2/
URL:https://musikene.eus/events/audicion-repertorio-orquestal-fagot-2/
END:VEVENT
END:VCALENDAR