BEGIN:VCALENDAR
VERSION:2.0
PRODID:-//eventon.com NONSGML v1.0//EN
CALSCALE:GREGORIAN
METHOD:PUBLISH
BEGIN:VEVENT
UID:69ea7e14859e8
DTSTAMP:20260423T201620Z
DTSTART:20210202T170000Z
DTEND:20210202T225000Z
LOCATION:Musikene
SUMMARY:Audición Música de cámara. Quinteto de metales
DESCRIPTION:Alumnado del profesor Vicente Boix\nhttps://musikene.eus/events
 /audicion-musica-de-camara-quinteto-de-metales/?lang=fr
URL:https://musikene.eus/events/audicion-musica-de-camara-quinteto-de-metales/?lang=fr
END:VEVENT
END:VCALENDAR