BEGIN:VCALENDAR
VERSION:2.0
PRODID:-//eventon.com NONSGML v1.0//EN
CALSCALE:GREGORIAN
METHOD:PUBLISH
BEGIN:VEVENT
UID:69e72f6670b48
DTSTAMP:20260421T080350Z
DTSTART:20201026T150000Z
DTEND:20201028T190000Z
LOCATION:Musikene
SUMMARY:BERTAN BEHERA! AURELIANO CATTANEO. Konposizio ikastaroa
DESCRIPTION:Musika Garaikideko Konposizio ikastaroa Atelehena\,  asteartea 
 eta asteazkena: 16:00 &#8211; 20:00 h. MUSIKAGILEAK-ekin elkarlanean\nhttps
 ://musikene.eus/events/curso-de-composicion-con-aureliano-cattaneo/?lang=eu
URL:https://musikene.eus/events/curso-de-composicion-con-aureliano-cattaneo/?lang=eu
END:VEVENT
END:VCALENDAR