BEGIN:VCALENDAR
VERSION:2.0
PRODID:-//eventon.com NONSGML v1.0//EN
CALSCALE:GREGORIAN
METHOD:PUBLISH
BEGIN:VEVENT
UID:69e88cac11340
DTSTAMP:20260422T085404Z
DTSTART:20201016T180000Z
DTEND:20201016T215000Z
LOCATION:Musikene
SUMMARY:KONTZERTUA SYNERGEIN PROJECT
DESCRIPTION:Juanjo Llopico\,  perkusioa Sisco Aparici\,  perkusioa Álvaro 
 Belda\,  perkusioa &nbsp; MUSIKAGILEAK-ekin elkarlanean\nhttps://musikene.e
 us/events/concierto-synergen-project/?lang=eu
URL:https://musikene.eus/events/concierto-synergen-project/?lang=eu
END:VEVENT
END:VCALENDAR