BEGIN:VCALENDAR
VERSION:2.0
PRODID:-//eventon.com NONSGML v1.0//EN
CALSCALE:GREGORIAN
METHOD:PUBLISH
BEGIN:VEVENT
UID:69eaa0f972b14
DTSTAMP:20260423T224513Z
DTSTART:20201219T180000Z
DTEND:20201219T225000Z
LOCATION:Musikene
SUMMARY:CONCIERTO MUSIKENE SINFONIETTA
DESCRIPTION:Director: Nacho de Paz Irene Fraile\,  soprano &nbsp; Juan Cris
 óstomo Arriaga: Nonetto\,  Obertura en fa menor\,  op. 1 Carmelo Bernaola:
  Galatea\,  Rocinante y Preciosa Bruno Maderna: Serenata n. 2 Zuriñe F. Gu
 erenabarrena: Jaso (estreno)\nhttps://musikene.eus/events/concierto-musiken
 e-sinfonietta-3/
URL:https://musikene.eus/events/concierto-musikene-sinfonietta-3/
END:VEVENT
END:VCALENDAR