BEGIN:VCALENDAR
VERSION:2.0
PRODID:-//eventon.com NONSGML v1.0//EN
CALSCALE:GREGORIAN
METHOD:PUBLISH
BEGIN:VEVENT
UID:69e83054415a6
DTSTAMP:20260422T022004Z
DTSTART:20200912T180000Z
DTEND:20200912T215000Z
LOCATION:AMOREBIETA. San Antonio Elguezabal baseliza
SUMMARY:CONCIERTO CUARTETO ENGLAR
DESCRIPTION:Beñat Olano\,  violín María García\,  violín Irene Busons\
 ,  viola Cecilia Hutnik\,  violonchelo\nhttps://musikene.eus/events/concier
 to-cuarteto-englar/?lang=fr
URL:https://musikene.eus/events/concierto-cuarteto-englar/?lang=fr
END:VEVENT
END:VCALENDAR