BEGIN:VCALENDAR
VERSION:2.0
PRODID:-//eventon.com NONSGML v1.0//EN
CALSCALE:GREGORIAN
METHOD:PUBLISH
BEGIN:VEVENT
UID:69eb472b42b38
DTSTAMP:20260424T103419Z
DTSTART:20200521T180000Z
DTEND:20200521T215000Z
LOCATION:DONOSTIA. Tabakalera - Kutxa Kultur plaza
SUMMARY:CANCELADO!  CONCIERTO THE SHARP NINES
DESCRIPTION:Carlos Montull\,  bajo Aitor Bravo\,  batería Carlos Sagaste\,
   saxo Adrián Azkona\,  guitarra &nbsp; Ciclo KUTXAJAZZ Fundación KUTXA\n
 https://musikene.eus/events/concierto-the-sharp-nines/
URL:https://musikene.eus/events/concierto-the-sharp-nines/
END:VEVENT
END:VCALENDAR