BEGIN:VCALENDAR
VERSION:2.0
PRODID:-//eventon.com NONSGML v1.0//EN
CALSCALE:GREGORIAN
METHOD:PUBLISH
BEGIN:VEVENT
UID:69ecc69778d81
DTSTAMP:20260425T135015Z
DTSTART:20200210T150000Z
DTEND:20200210T170000Z
LOCATION:Musikene
SUMMARY:MASTERCLASS TROMPETA
DESCRIPTION:Masterclass que el trompeta solista de la Orquesta Sinfónica d
 e Euskadi ofrece a los alumnos de Musikene Dirigido a los alumnos de titula
 ción superior y a los alumnos de máster. &nbsp; &nbsp;\nhttps://musikene.
 eus/events/masterclass-trompeta-2/
URL:https://musikene.eus/events/masterclass-trompeta-2/
END:VEVENT
END:VCALENDAR