BEGIN:VCALENDAR
VERSION:2.0
PRODID:-//eventon.com NONSGML v1.0//EN
CALSCALE:GREGORIAN
METHOD:PUBLISH
BEGIN:VEVENT
UID:69ed86c71c0ec
DTSTAMP:20260426T033015Z
DTSTART:20200320T190000Z
DTEND:20200320T203000Z
LOCATION:
SUMMARY:CANCELADO!! Audición ÓRGANO
DESCRIPTION:Alumnado de Esteban Landart Lugar: Iglesia San Vicente &#8211; 
 Donostia &nbsp;\nhttps://musikene.eus/events/audicion-organo/?lang=en
URL:https://musikene.eus/events/audicion-organo/?lang=en
END:VEVENT
END:VCALENDAR