BEGIN:VCALENDAR
VERSION:2.0
PRODID:-//eventon.com NONSGML v1.0//EN
CALSCALE:GREGORIAN
METHOD:PUBLISH
BEGIN:VEVENT
UID:69eb7aea3ffb7
DTSTAMP:20260424T141506Z
DTSTART:20200203T230000Z
DTEND:20200205T230000Z
LOCATION:Musikene
SUMMARY:MASTERCLASS VIOLÍN
DESCRIPTION:Organizado por Musikene Dirigido a los alumnos de violín Exclu
 siva para alumnado de Musikene &nbsp; Martes 4\,  16:00-19:00 Miércoles 5\
 ,  16:00-19:00 Jueves 6\,  16:00-19:00\nhttps://musikene.eus/events/masterc
 lass-violin/
URL:https://musikene.eus/events/masterclass-violin/
END:VEVENT
END:VCALENDAR