BEGIN:VCALENDAR
VERSION:2.0
PRODID:-//eventon.com NONSGML v1.0//EN
CALSCALE:GREGORIAN
METHOD:PUBLISH
BEGIN:VEVENT
UID:69e4cf59e0fa4
DTSTAMP:20260419T124929Z
DTSTART:20200330T180000Z
DTEND:20200330T215000Z
LOCATION:Musikene
SUMMARY:Perkusio instrumentuen oinarrizko teknika Entzunaldia
DESCRIPTION:Jesús Mari Garmendia iraskaslearen ikasleagoa\nhttps://musiken
 e.eus/events/audicion-tecnica-basica-de-instrumentos-de-percusion/?lang=eu
URL:https://musikene.eus/events/audicion-tecnica-basica-de-instrumentos-de-percusion/?lang=eu
END:VEVENT
END:VCALENDAR