BEGIN:VCALENDAR
VERSION:2.0
PRODID:-//eventon.com NONSGML v1.0//EN
CALSCALE:GREGORIAN
METHOD:PUBLISH
BEGIN:VEVENT
UID:69e756996ccb5
DTSTAMP:20260421T105105Z
DTSTART:20200330T180000Z
DTEND:20200330T215000Z
LOCATION:Musikene
SUMMARY:Audición Técnica Básica de Instrumentos de Percusión
DESCRIPTION:Alumnado del profesor Jesús Mari Garmendia\nhttps://musikene.e
 us/events/audicion-tecnica-basica-de-instrumentos-de-percusion/
URL:https://musikene.eus/events/audicion-tecnica-basica-de-instrumentos-de-percusion/
END:VEVENT
END:VCALENDAR