BEGIN:VCALENDAR
VERSION:2.0
PRODID:-//eventon.com NONSGML v1.0//EN
CALSCALE:GREGORIAN
METHOD:PUBLISH
BEGIN:VEVENT
UID:69e73e4b3b99a
DTSTAMP:20260421T090723Z
DTSTART:20200307T180000Z
DTEND:20200307T225000Z
LOCATION:Musikene
SUMMARY:Kontzertua MUSIKENE BANDA SINFONIKOA
DESCRIPTION:Zuzendaria: JOSEBA TORRE Andrea Castaño\,  saxofoia Henry Bok\
 ,  klarinete baxua &nbsp; A. Glazunov: Concierto para saxofón en Mib mayor
 \,  op. 109 D. Bourgeois: Apocalypse\,  op. 187 P. Seitz: To Vincent ´s St
 ars O. Navarro: Libertadores\nhttps://musikene.eus/events/concierto-banda-s
 infonica-de-musikene-3/?lang=eu
URL:https://musikene.eus/events/concierto-banda-sinfonica-de-musikene-3/?lang=eu
END:VEVENT
END:VCALENDAR