BEGIN:VCALENDAR
VERSION:2.0
PRODID:-//eventon.com NONSGML v1.0//EN
CALSCALE:GREGORIAN
METHOD:PUBLISH
BEGIN:VEVENT
UID:69e953a284550
DTSTAMP:20260422T230258Z
DTSTART:20200128T180000Z
DTEND:20200128T200000Z
LOCATION:
SUMMARY:LIBURUAREN AURKEZPENA ETA HITZALDIA
DESCRIPTION:Aurkezpena / Presentación Andoni Iturbe. Bizkaiko Foru Aldundi
 ko Kultura Zuzendari Nagusia Jon Astigarraga. Otxandioko Udala Jon Zarate. 
 Euskararen eta Etengabeko Prestakuntzaren arloko Errektoreordea Jon Bagüé
 s. Eresbil-Euskal Musikaren Artxiboko Zuzendaria Miren Iñarga. Musikene-Eu
 skal Herriko Goi Mailako Musika Ikastegiko Zuzendari Nagusia eta Akademikoa
  &nbsp; Hitzaldia / Conferencia &#8211; Daniel Moro. Oviedoko Unibertsitate
 a[..]\nhttps://musikene.eus/events/presentacion-del-libro-y-conferencia/?la
 ng=eu
URL:https://musikene.eus/events/presentacion-del-libro-y-conferencia/?lang=eu
END:VEVENT
END:VCALENDAR