BEGIN:VCALENDAR
VERSION:2.0
PRODID:-//eventon.com NONSGML v1.0//EN
CALSCALE:GREGORIAN
METHOD:PUBLISH
BEGIN:VEVENT
UID:69ed786059abe
DTSTAMP:20260426T022848Z
DTSTART:20200208T180000Z
DTEND:20200208T225000Z
LOCATION:Musikene
SUMMARY:MASTER STRING ORKESTRA kontzertua
DESCRIPTION:Zuzendaria: BORIS GARLITSKY &nbsp; J. Haydn: Sinfonía n. 49 en
  Fa menor\,  Hob. I:49 W.A. Mozart: Concierto para violín y orquesta n. 1 
 en Si bemol mayor KV 207 &#8212;&#8212;&#8212;&#8211; F. Mendelssohn: Sinfo
 nía X F. Mendelssohn: Octeto para cuerdas Op. 20\nhttps://musikene.eus/eve
 nts/concierto-master-string-orkestra-2/?lang=eu
URL:https://musikene.eus/events/concierto-master-string-orkestra-2/?lang=eu
END:VEVENT
END:VCALENDAR