BEGIN:VCALENDAR
VERSION:2.0
PRODID:-//eventon.com NONSGML v1.0//EN
CALSCALE:GREGORIAN
METHOD:PUBLISH
BEGIN:VEVENT
UID:69ed908734418
DTSTAMP:20260426T041151Z
DTSTART:20200208T180000Z
DTEND:20200208T225000Z
LOCATION:Musikene
SUMMARY:Concierto MASTER STRING ORKESTRA
DESCRIPTION:Director: BORIS GARLITSKY &nbsp; J. Haydn: SinfonÃ­a n. 49 en F
 a menor\,  Hob. I:49 W.A. Mozart: Concierto para violÃ­n y orquesta n. 1 en
  Si bemol mayor KV 207 &#8212;&#8212;&#8212;&#8211; F. Mendelssohn: SinfonÃ
 ­a X F. Mendelssohn: Octeto para cuerdas Op. 20\nhttps://musikene.eus/event
 s/concierto-master-string-orkestra-2/
URL:https://musikene.eus/events/concierto-master-string-orkestra-2/
END:VEVENT
END:VCALENDAR