BEGIN:VCALENDAR
VERSION:2.0
PRODID:-//eventon.com NONSGML v1.0//EN
CALSCALE:GREGORIAN
METHOD:PUBLISH
BEGIN:VEVENT
UID:69e75627974da
DTSTAMP:20260421T104911Z
DTSTART:20200125T173000Z
DTEND:20200125T225000Z
LOCATION:DONOSTIA. Tabakalera - Kutxa Kultur Artegunea
SUMMARY:Concierto PIANO
DESCRIPTION:Nikolay Krytsov\,  pianista Ciclo MÚSICA EN SALA. Exposición 
 de Aitor Ortiz\nhttps://musikene.eus/events/piano-kontzertua/
URL:https://musikene.eus/events/piano-kontzertua/
END:VEVENT
END:VCALENDAR