BEGIN:VCALENDAR
VERSION:2.0
PRODID:-//eventon.com NONSGML v1.0//EN
CALSCALE:GREGORIAN
METHOD:PUBLISH
BEGIN:VEVENT
UID:69e73d5409561
DTSTAMP:20260421T090316Z
DTSTART:20200125T173000Z
DTEND:20200125T225000Z
LOCATION:DONOSTIA. Tabakalera - Kutxa Kultur Artegunea
SUMMARY:PIANO KONTZERTUA
DESCRIPTION:Nikolay Krytsov\,  pianista ARETOAN MUSIKA zikloa.  Aitor Orti
 z-en Erakusketa &nbsp; &nbsp;\nhttps://musikene.eus/events/piano-kontzertua
 /?lang=eu
URL:https://musikene.eus/events/piano-kontzertua/?lang=eu
END:VEVENT
END:VCALENDAR