BEGIN:VCALENDAR
VERSION:2.0
PRODID:-//eventon.com NONSGML v1.0//EN
CALSCALE:GREGORIAN
METHOD:PUBLISH
BEGIN:VEVENT
UID:69e6107a42cc9
DTSTAMP:20260420T113938Z
DTSTART:20191212T110000Z
DTEND:20191212T225000Z
LOCATION:Musikene
SUMMARY:Audición. Lectura de repertorio de Big Band - EXCLUSIVAMENTE ALUMNADO!!!
DESCRIPTION:Alumnado de Miguel Ángel López Blázquez\nhttps://musikene.eu
 s/events/audicion-lectura-de-repertorio-de-big-band/
URL:https://musikene.eus/events/audicion-lectura-de-repertorio-de-big-band/
END:VEVENT
END:VCALENDAR