BEGIN:VCALENDAR
VERSION:2.0
PRODID:-//eventon.com NONSGML v1.0//EN
CALSCALE:GREGORIAN
METHOD:PUBLISH
BEGIN:VEVENT
UID:69ed86c730d44
DTSTAMP:20260426T033015Z
DTSTART:20191203T150000Z
DTEND:20191203T180000Z
LOCATION:Musikene
SUMMARY:TALLER PEDAGÓGICO. EL PRINCIPIO ACÚSTICO FUNDAMENTAL DE UN VIOLÍN
DESCRIPTION:Taller pedagógico. «El principio acústico fundamental de un 
 violín» Consejos de mantenimiento para una mejor calidad de sonido. La el
 ección de cuerdas. La influencia del arco. Organizado por MUSIKENE Dirigid
 o al alumnado de violín\nhttps://musikene.eus/events/taller-pedagogico-el-
 principio-acustico-fundamental-de-un-violin/
URL:https://musikene.eus/events/taller-pedagogico-el-principio-acustico-fundamental-de-un-violin/
END:VEVENT
END:VCALENDAR