BEGIN:VCALENDAR
VERSION:2.0
PRODID:-//eventon.com NONSGML v1.0//EN
CALSCALE:GREGORIAN
METHOD:PUBLISH
BEGIN:VEVENT
UID:69e8a49956b1d
DTSTAMP:20260422T103609Z
DTSTART:20191122T150000Z
DTEND:20191122T170000Z
LOCATION:Musikene
SUMMARY:ORKESTRA ZUZENDARITZA SOLASALDIA
DESCRIPTION:MUSIKENEk antolatua Orkestra zuzendaritza ikasleei zuzendua Mus
 ikeneko ikasleentzat soilik\nhttps://musikene.eus/events/charla-direccion-d
 e-orquesta/?lang=eu
URL:https://musikene.eus/events/charla-direccion-de-orquesta/?lang=eu
END:VEVENT
END:VCALENDAR