BEGIN:VCALENDAR
VERSION:2.0
PRODID:-//eventon.com NONSGML v1.0//EN
CALSCALE:GREGORIAN
METHOD:PUBLISH
BEGIN:VEVENT
UID:69e8be2bb1aca
DTSTAMP:20260422T122515Z
DTSTART:20191122T150000Z
DTEND:20191122T170000Z
LOCATION:Musikene
SUMMARY:CHARLA DIRECCIÓN DE ORQUESTA
DESCRIPTION:Organizado por MUSIKENE Dirigido a los alumnos de dirección de
  orquesta. Exclusivo para alumnado de Musikene\nhttps://musikene.eus/events
 /charla-direccion-de-orquesta/
URL:https://musikene.eus/events/charla-direccion-de-orquesta/
END:VEVENT
END:VCALENDAR