BEGIN:VCALENDAR
VERSION:2.0
PRODID:-//eventon.com NONSGML v1.0//EN
CALSCALE:GREGORIAN
METHOD:PUBLISH
BEGIN:VEVENT
UID:69eac0eee455c
DTSTAMP:20260424T010134Z
DTSTART:20191120T150000Z
DTEND:20191121T170000Z
LOCATION:Musikene
SUMMARY:MASTERCLASS VIOLONCELLO
DESCRIPTION:Organizado por MUSIKENE Dirigida a los alumnos de violoncello E
 xclusiva para alumnos de Musikene Miercoles 20\,  16:00-18:00 Jueves 21\,  
 16:00-18:00 &nbsp;\nhttps://musikene.eus/events/masterclass-violoncello/
URL:https://musikene.eus/events/masterclass-violoncello/
END:VEVENT
END:VCALENDAR