BEGIN:VCALENDAR
VERSION:2.0
PRODID:-//eventon.com NONSGML v1.0//EN
CALSCALE:GREGORIAN
METHOD:PUBLISH
BEGIN:VEVENT
UID:69eb5aebf03ee
DTSTAMP:20260424T115835Z
DTSTART:20200507T130000Z
DTEND:20200507T150000Z
LOCATION:Musikene
SUMMARY:CANCELADO!   Audición VIOLÍN
DESCRIPTION:Alumnado de Catalin Bucataru y Eva Pereda\nhttps://musikene.eus
 /events/biolina-entzunaldia-2/?lang=en
URL:https://musikene.eus/events/biolina-entzunaldia-2/?lang=en
END:VEVENT
END:VCALENDAR