BEGIN:VCALENDAR
VERSION:2.0
PRODID:-//eventon.com NONSGML v1.0//EN
CALSCALE:GREGORIAN
METHOD:PUBLISH
BEGIN:VEVENT
UID:69eb7307c18d5
DTSTAMP:20260424T134127Z
DTSTART:20200507T130000Z
DTEND:20200507T150000Z
LOCATION:Musikene
SUMMARY:BERTAN BEHERA!   BIOLINA Entzunaldia
DESCRIPTION:Catalin Bucataru eta Eva Pereda irakasleen ikaslegoa\nhttps://m
 usikene.eus/events/biolina-entzunaldia-2/?lang=eu
URL:https://musikene.eus/events/biolina-entzunaldia-2/?lang=eu
END:VEVENT
END:VCALENDAR