BEGIN:VCALENDAR
VERSION:2.0
PRODID:-//eventon.com NONSGML v1.0//EN
CALSCALE:GREGORIAN
METHOD:PUBLISH
BEGIN:VEVENT
UID:69e92d509086e
DTSTAMP:20260422T201928Z
DTSTART:20191209T140000Z
DTEND:20191209T170000Z
LOCATION:Musikene
SUMMARY:Audición FLAUTA
DESCRIPTION:Alumnado de Miguel Angel Angulo y Pedro José Rodríguez &nbsp;
 \nhttps://musikene.eus/events/audicion-flauta-10/?lang=fr
URL:https://musikene.eus/events/audicion-flauta-10/?lang=fr
END:VEVENT
END:VCALENDAR