BEGIN:VCALENDAR
VERSION:2.0
PRODID:-//eventon.com NONSGML v1.0//EN
CALSCALE:GREGORIAN
METHOD:PUBLISH
BEGIN:VEVENT
UID:69e9b24deb4ca
DTSTAMP:20260423T054653Z
DTSTART:20200214T100000Z
DTEND:20200214T225000Z
LOCATION:Musikene
SUMMARY:Audición Quinteto de Viento
DESCRIPTION:Alumnado de Laura Marcos\nhttps://musikene.eus/events/audicion-
 quinteto-de-viento-2/?lang=en
URL:https://musikene.eus/events/audicion-quinteto-de-viento-2/?lang=en
END:VEVENT
END:VCALENDAR