BEGIN:VCALENDAR
VERSION:2.0
PRODID:-//eventon.com NONSGML v1.0//EN
CALSCALE:GREGORIAN
METHOD:PUBLISH
BEGIN:VEVENT
UID:69ec040d9e65d
DTSTAMP:20260425T000013Z
DTSTART:20191028
DTEND:20191029
LOCATION:Musikene
SUMMARY:JAZZ TRONBOIA
DESCRIPTION:Erasmus egitasmoaren eskutik Ilja Reijngoud irakasleak eskolak 
 emango ditu Musikeneko ikasleentzat\,  urriaren 28tik 30era &nbsp;\nhttps:/
 /musikene.eus/events/jazz-trombon/?lang=eu
URL:https://musikene.eus/events/jazz-trombon/?lang=eu
END:VEVENT
END:VCALENDAR