BEGIN:VCALENDAR
VERSION:2.0
PRODID:-//eventon.com NONSGML v1.0//EN
CALSCALE:GREGORIAN
METHOD:PUBLISH
BEGIN:VEVENT
UID:69ec1f5e9c1b6
DTSTAMP:20260425T015646Z
DTSTART:20191028
DTEND:20191029
LOCATION:Musikene
SUMMARY:JAZZ-TROMBÓN
DESCRIPTION:Gracias al programa Erasmus\,  el profesor de Jazz-Trombón Ilj
 a Reijngoud impartirá clases 28\, 29 y 30 de octubre al alumnado de Musike
 ne. &nbsp;\nhttps://musikene.eus/events/jazz-trombon/
URL:https://musikene.eus/events/jazz-trombon/
END:VEVENT
END:VCALENDAR