BEGIN:VCALENDAR
VERSION:2.0
PRODID:-//eventon.com NONSGML v1.0//EN
CALSCALE:GREGORIAN
METHOD:PUBLISH
BEGIN:VEVENT
UID:69ec1ed75bf1c
DTSTAMP:20260425T015431Z
DTSTART:20200527T150000Z
DTEND:20200527T215000Z
LOCATION:Musikene
SUMMARY:CANCELADO!   Audición Saxofón Jazz
DESCRIPTION:Alumnado de Mikel Andueza\nhttps://musikene.eus/events/audicion
 -saxofon-jazz-3/
URL:https://musikene.eus/events/audicion-saxofon-jazz-3/
END:VEVENT
END:VCALENDAR