BEGIN:VCALENDAR
VERSION:2.0
PRODID:-//eventon.com NONSGML v1.0//EN
CALSCALE:GREGORIAN
METHOD:PUBLISH
BEGIN:VEVENT
UID:69e73d820f005
DTSTAMP:20260421T090402Z
DTSTART:20191001T090000Z
DTEND:20191003T160000Z
LOCATION:Musikene
SUMMARY:MASTERCLASS TROMBÓN JAZZ
DESCRIPTION:Masterclass de trombón jazz a cargo de Bart Van Lier. Exclusiv
 o para alumnos de Musikene\nhttps://musikene.eus/events/masterclass-trombon
 -jazz-2/?lang=en
URL:https://musikene.eus/events/masterclass-trombon-jazz-2/?lang=en
END:VEVENT
END:VCALENDAR