BEGIN:VCALENDAR
VERSION:2.0
PRODID:-//eventon.com NONSGML v1.0//EN
CALSCALE:GREGORIAN
METHOD:PUBLISH
BEGIN:VEVENT
UID:69ed236d51943
DTSTAMP:20260425T202621Z
DTSTART:20191214T180000Z
DTEND:20191214T225000Z
LOCATION:
SUMMARY:Concierto Musikene Sinfonietta
DESCRIPTION:Directora: Rut Schereiner Juan Laboreria\,  barítono Víctor L
 ardiés\,  clarinete &nbsp; G. Mahler: Kindertotenlieder L. Naón: Around t
 he Bell W. Lutoslawski: Dance Preludes A. Pärt: Fratres\nhttps://musikene.
 eus/events/concierto-musikene-sinfonietta/?lang=fr
URL:https://musikene.eus/events/concierto-musikene-sinfonietta/?lang=fr
END:VEVENT
END:VCALENDAR