BEGIN:VCALENDAR
VERSION:2.0
PRODID:-//eventon.com NONSGML v1.0//EN
CALSCALE:GREGORIAN
METHOD:PUBLISH
BEGIN:VEVENT
UID:69ed3b54572a8
DTSTAMP:20260425T220820Z
DTSTART:20191214T180000Z
DTEND:20191214T225000Z
LOCATION:
SUMMARY:Kontzertua Musikene Sinfonietta
DESCRIPTION:Zuzendaria: Rut Schereiner Juan Laboreria\,  baritonoa Víctor 
 Lardiés\,  klarinetea &nbsp; G. Mahler: Kindertotenlieder L. Naón: Around
  the Bell W. Lutoslawski: Dance Preludes A. Pärt: Fratres\nhttps://musiken
 e.eus/events/concierto-musikene-sinfonietta/?lang=eu
URL:https://musikene.eus/events/concierto-musikene-sinfonietta/?lang=eu
END:VEVENT
END:VCALENDAR