BEGIN:VCALENDAR
VERSION:2.0
PRODID:-//eventon.com NONSGML v1.0//EN
CALSCALE:GREGORIAN
METHOD:PUBLISH
BEGIN:VEVENT
UID:69ecf7d5edb43
DTSTAMP:20260425T172021Z
DTSTART:20200515T150000Z
DTEND:20200515T190000Z
LOCATION:Musikene
SUMMARY:CANCELADO!    Audición VIOLA
DESCRIPTION:Alumnado de la profesora Natalia Tchitch\nhttps://musikene.eus/
 events/audicion-viola-3/
URL:https://musikene.eus/events/audicion-viola-3/
END:VEVENT
END:VCALENDAR