BEGIN:VCALENDAR
VERSION:2.0
PRODID:-//eventon.com NONSGML v1.0//EN
CALSCALE:GREGORIAN
METHOD:PUBLISH
BEGIN:VEVENT
UID:69e9d5c89e5bb
DTSTAMP:20260423T081816Z
DTSTART:20200224T190000Z
DTEND:20200224T225000Z
LOCATION:Musikene
SUMMARY:BERTAN BEHERA!!! Ganbera Musika (Tronpa) Entzunaldia
DESCRIPTION:Óscar Sala irakaslearen ikasleagoa\nhttps://musikene.eus/event
 s/audicion-musica-de-camara-trompa/?lang=eu
URL:https://musikene.eus/events/audicion-musica-de-camara-trompa/?lang=eu
END:VEVENT
END:VCALENDAR