BEGIN:VCALENDAR
VERSION:2.0
PRODID:-//eventon.com NONSGML v1.0//EN
CALSCALE:GREGORIAN
METHOD:PUBLISH
BEGIN:VEVENT
UID:69e9ee4aea7ad
DTSTAMP:20260423T100250Z
DTSTART:20200224T190000Z
DTEND:20200224T225000Z
LOCATION:Musikene
SUMMARY:CANCELADO!!! Audición. Música de cámara (Trompa)
DESCRIPTION:Alumnado de Óscar Sala\nhttps://musikene.eus/events/audicion-m
 usica-de-camara-trompa/?lang=fr
URL:https://musikene.eus/events/audicion-musica-de-camara-trompa/?lang=fr
END:VEVENT
END:VCALENDAR