BEGIN:VCALENDAR
VERSION:2.0
PRODID:-//eventon.com NONSGML v1.0//EN
CALSCALE:GREGORIAN
METHOD:PUBLISH
BEGIN:VEVENT
UID:69e6cbd9ed079
DTSTAMP:20260421T005905Z
DTSTART:20191209T190000Z
DTEND:20191209T225000Z
LOCATION:Musikene
SUMMARY:Audición. Repertorio orquestal (Trompa)
DESCRIPTION:Alumnado de Óscar Sala.\nhttps://musikene.eus/events/audicion-
 repertorio-orquestal-trompa-6/?lang=en
URL:https://musikene.eus/events/audicion-repertorio-orquestal-trompa-6/?lang=en
END:VEVENT
END:VCALENDAR