BEGIN:VCALENDAR
VERSION:2.0
PRODID:-//eventon.com NONSGML v1.0//EN
CALSCALE:GREGORIAN
METHOD:PUBLISH
BEGIN:VEVENT
UID:69e8c2ee295ec
DTSTAMP:20260422T124534Z
DTSTART:20191218T100000Z
DTEND:20191218T225000Z
LOCATION:Musikene
SUMMARY:Kontrabaxua. Entzunaldia
DESCRIPTION:P. De Maistre eta Marta Moll irakasleen ikasleagoa.\nhttps://mu
 sikene.eus/events/audicion-contrabajo-2/?lang=eu
URL:https://musikene.eus/events/audicion-contrabajo-2/?lang=eu
END:VEVENT
END:VCALENDAR