BEGIN:VCALENDAR
VERSION:2.0
PRODID:-//eventon.com NONSGML v1.0//EN
CALSCALE:GREGORIAN
METHOD:PUBLISH
BEGIN:VEVENT
UID:69ea804485863
DTSTAMP:20260423T202540Z
DTSTART:20200330T180000Z
DTEND:20200330T215000Z
LOCATION:Musikene
SUMMARY:Audición. Música de cámara (Trompas)
DESCRIPTION:Alumnado de Óscar Sala\nhttps://musikene.eus/events/audicion-m
 usica-de-camara-trompas-3/?lang=en
URL:https://musikene.eus/events/audicion-musica-de-camara-trompas-3/?lang=en
END:VEVENT
END:VCALENDAR