BEGIN:VCALENDAR
VERSION:2.0
PRODID:-//eventon.com NONSGML v1.0//EN
CALSCALE:GREGORIAN
METHOD:PUBLISH
BEGIN:VEVENT
UID:69ea53c63b9a9
DTSTAMP:20260423T171550Z
DTSTART:20191205T180000Z
DTEND:20191205T203000Z
LOCATION:Musikene
SUMMARY:Audición. ARPA
DESCRIPTION:Alumnado de la profesora Christine Icart.\nhttps://musikene.eus
 /events/harpa-entzunaldia-2/
URL:https://musikene.eus/events/harpa-entzunaldia-2/
END:VEVENT
END:VCALENDAR