BEGIN:VCALENDAR
VERSION:2.0
PRODID:-//eventon.com NONSGML v1.0//EN
CALSCALE:GREGORIAN
METHOD:PUBLISH
BEGIN:VEVENT
UID:69e9018b5da35
DTSTAMP:20260422T171243Z
DTSTART:20191125T173000Z
DTEND:20191125T225000Z
LOCATION:Musikene
SUMMARY:Audición. Saxofón.
DESCRIPTION:Alumnado de Miguel Ángel Lorente\nhttps://musikene.eus/events/
 audicion-saxofon-4/
URL:https://musikene.eus/events/audicion-saxofon-4/
END:VEVENT
END:VCALENDAR