BEGIN:VCALENDAR
VERSION:2.0
PRODID:-//eventon.com NONSGML v1.0//EN
CALSCALE:GREGORIAN
METHOD:PUBLISH
BEGIN:VEVENT
UID:69e7e5982fecf
DTSTAMP:20260421T210112Z
DTSTART:20190904T090000Z
DTEND:20190904T215000Z
LOCATION:Musikene
SUMMARY:EXAMEN FIN DE CARRERA CANTO JAZZ
DESCRIPTION:EXAMEN FIN DE CARRERA CANTO JAZZ\nhttps://musikene.eus/events/e
 xamen-fin-de-carrera-canto-jazz/
URL:https://musikene.eus/events/examen-fin-de-carrera-canto-jazz/
END:VEVENT
END:VCALENDAR