BEGIN:VCALENDAR
VERSION:2.0
PRODID:-//eventon.com NONSGML v1.0//EN
CALSCALE:GREGORIAN
METHOD:PUBLISH
BEGIN:VEVENT
UID:69eb30d381f4a
DTSTAMP:20260424T085859Z
DTSTART:20190614T133000Z
DTEND:20190614T215000Z
LOCATION:Musikene
SUMMARY:EXAMEN FIN DE CARRERA jazz-contrabajo
DESCRIPTION:EXAMEN FIN DE CARRERA jazz-contrabajo\nhttps://musikene.eus/eve
 nts/examen-fin-de-carrera-jazz-contrabajo/
URL:https://musikene.eus/events/examen-fin-de-carrera-jazz-contrabajo/
END:VEVENT
END:VCALENDAR